BEGIN:VCALENDAR
VERSION:2.0
PRODID:PHP
METHOD:PUBLISH
BEGIN:VTIMEZONE
TZID:America/New_York
BEGIN:DAYLIGHT
TZOFFSETFROM:-0500
TZOFFSETTO:-0400
TZNAME:EDT
DTSTART:19700308T020000
RRULE:FREQ=YEARLY;BYMONTH=3;BYDAY=2SU
END:DAYLIGHT
BEGIN:STANDARD
TZOFFSETFROM:-0400
TZOFFSETTO:-0500
TZNAME:EST
DTSTART:19701101T020000
RRULE:FREQ=YEARLY;BYMONTH=11;BYDAY=1SU
END:STANDARD
END:VTIMEZONE
BEGIN:VEVENT
DTSTART;TZID=America/New_York:20260326T190000
DTEND;TZID=America/New_York:20260408T220000
SUMMARY:ITALIAN FILM FESTIVAL USA - Cleveland - 2026
LOCATION:ITALIAN FILM FESTIVAL USA - Cleveland - 2026, Strosacker Auditorium, 2125 Adelbert Rd,  Cleveland, OH 44106
UID:2026-03-italian-film-festival-usa--cleveland--2026@gcbl.org
DTSTAMP:20260425T130640
END:VEVENT
END:VCALENDAR
