BEGIN:VCALENDAR
VERSION:2.0
PRODID:PHP
METHOD:PUBLISH
BEGIN:VTIMEZONE
TZID:America/New_York
BEGIN:DAYLIGHT
TZOFFSETFROM:-0500
TZOFFSETTO:-0400
TZNAME:EDT
DTSTART:19700308T020000
RRULE:FREQ=YEARLY;BYMONTH=3;BYDAY=2SU
END:DAYLIGHT
BEGIN:STANDARD
TZOFFSETFROM:-0400
TZOFFSETTO:-0500
TZNAME:EST
DTSTART:19701101T020000
RRULE:FREQ=YEARLY;BYMONTH=11;BYDAY=1SU
END:STANDARD
END:VTIMEZONE
BEGIN:VEVENT
DTSTART;TZID=America/New_York:20250517T190000
DTEND;TZID=America/New_York:20250525T220000
SUMMARY:Janáček Jenůfa: A story of murder, consequences, and reconciliation
LOCATION:Janáček Jenůfa: A story of murder, consequences, and reconciliation,  11001 Euclid Ave Cleveland, OH 44106
UID:2025-05-janek-jenfa-a-story-of-murder-consequences-and-reconciliation@gcbl.org
DTSTAMP:20260423T115430
END:VEVENT
END:VCALENDAR
