BEGIN:VCALENDAR
VERSION:2.0
PRODID:PHP
METHOD:PUBLISH
BEGIN:VTIMEZONE
TZID:America/New_York
BEGIN:DAYLIGHT
TZOFFSETFROM:-0500
TZOFFSETTO:-0400
TZNAME:EDT
DTSTART:19700308T020000
RRULE:FREQ=YEARLY;BYMONTH=3;BYDAY=2SU
END:DAYLIGHT
BEGIN:STANDARD
TZOFFSETFROM:-0400
TZOFFSETTO:-0500
TZNAME:EST
DTSTART:19701101T020000
RRULE:FREQ=YEARLY;BYMONTH=11;BYDAY=1SU
END:STANDARD
END:VTIMEZONE
BEGIN:VEVENT
DTSTART;TZID=America/New_York:20220115T130000
DTEND;TZID=America/New_York:20220128T130000
SUMMARY:2022 Scholastic Art + Writing Exhibition
LOCATION:2022 Scholastic Art + Writing Exhibition,  ,  
UID:2022-01-2022-scholastic-art-writing-exhibition@gcbl.org
DTSTAMP:20260422T150213
END:VEVENT
END:VCALENDAR
