BEGIN:VCALENDAR
VERSION:2.0
PRODID:PHP
METHOD:PUBLISH
BEGIN:VTIMEZONE
TZID:America/New_York
BEGIN:DAYLIGHT
TZOFFSETFROM:-0500
TZOFFSETTO:-0400
TZNAME:EDT
DTSTART:19700308T020000
RRULE:FREQ=YEARLY;BYMONTH=3;BYDAY=2SU
END:DAYLIGHT
BEGIN:STANDARD
TZOFFSETFROM:-0400
TZOFFSETTO:-0500
TZNAME:EST
DTSTART:19701101T020000
RRULE:FREQ=YEARLY;BYMONTH=11;BYDAY=1SU
END:STANDARD
END:VTIMEZONE
BEGIN:VEVENT
DTSTART;TZID=America/New_York:20211221T150000
DTEND;TZID=America/New_York:20221002T170000
SUMMARY:100 Years of Discovery: A Museum’s Past, Present & Future
LOCATION:100 Years of Discovery: A Museum’s Past, Present & Future,  ,  
UID:2021-12-100-years-of-discovery-a-museums-past-present-future@gcbl.org
DTSTAMP:20260422T150419
END:VEVENT
END:VCALENDAR
